BEGIN:VCALENDAR
VERSION:2.0
PRODID:-//Date iCal//NONSGML kigkonsult.se iCalcreator 2.20.4//
METHOD:PUBLISH
BEGIN:VTIMEZONE
TZID:Europe/Moscow
BEGIN:STANDARD
DTSTART:20141026T020000
TZOFFSETFROM:+0400
TZOFFSETTO:+0300
TZNAME:MSK
END:STANDARD
END:VTIMEZONE
BEGIN:VEVENT
UID:calendar.26579.field_announcement_dates.0@new-site-2023.mephi.ru
CREATED:20260417T151559Z
DESCRIPTION:Рубрики: \n\nОбразование\nКроме учебы\n\nДля кого: \n\nШкольник
 у\nСтуденту\nАбитуриенту\n\nПлощадка: \n\nНИЯУ МИФИ
DTSTART;TZID=Europe/Moscow:20260417T000000
DTEND;TZID=Europe/Moscow:20260430T000000
LAST-MODIFIED:20260417T151559Z
SUMMARY:Интеллектуальный марафон имени Л.С. Понтрягина для одаренных детей 
 с ОВЗ пройдет в Димитровграде с 27 по 30 апреля
URL;TYPE=URI:https://new-site-2023.mephi.ru/press/announcements/26579
END:VEVENT
END:VCALENDAR
