BEGIN:VCALENDAR
VERSION:2.0
PRODID:-//Date iCal//NONSGML kigkonsult.se iCalcreator 2.20.4//
METHOD:PUBLISH
BEGIN:VTIMEZONE
TZID:Europe/Moscow
BEGIN:STANDARD
DTSTART:20141026T020000
TZOFFSETFROM:+0400
TZOFFSETTO:+0300
TZNAME:MSK
END:STANDARD
END:VTIMEZONE
BEGIN:VEVENT
UID:calendar.26573.field_announcement_dates.0@new-site-2023.mephi.ru
CREATED:20260416T151052Z
DESCRIPTION:Рубрики: \n\nСтрана и мир\n\nДля кого: \n\nСтуденту\nУченому\n
 \nПлощадка: \n\nВнешние мероприятия
DTSTART;TZID=Europe/Moscow:20260416T000000
DTEND;TZID=Europe/Moscow:20260505T000000
LAST-MODIFIED:20260416T151052Z
SUMMARY:Студенты и молодые ученые приглашаются участвовать в Премии 'Новато
 р Москвы'
URL;TYPE=URI:https://new-site-2023.mephi.ru/press/announcements/26573
END:VEVENT
END:VCALENDAR
