BEGIN:VCALENDAR
VERSION:2.0
PRODID:-//Date iCal//NONSGML kigkonsult.se iCalcreator 2.20.4//
METHOD:PUBLISH
BEGIN:VTIMEZONE
TZID:Europe/Moscow
BEGIN:STANDARD
DTSTART:20141026T020000
TZOFFSETFROM:+0400
TZOFFSETTO:+0300
TZNAME:MSK
END:STANDARD
END:VTIMEZONE
BEGIN:VEVENT
UID:calendar.26561.field_announcement_dates.0@new-site-2023.mephi.ru
CREATED:20260415T150846Z
DESCRIPTION:Рубрики: \n\nОбразование\n\nДля кого: \n\nСтуденту\n\nПлощадка:
  \n\nНИЯУ МИФИ
DTSTART;TZID=Europe/Moscow:20260429T000000
DTEND;TZID=Europe/Moscow:20260429T000000
LAST-MODIFIED:20260415T150846Z
SUMMARY:Конкурс по отбору кандидатов на получение стипендии имени С.П. Коро
 лева
URL;TYPE=URI:https://new-site-2023.mephi.ru/press/announcements/26561
END:VEVENT
END:VCALENDAR
