BEGIN:VCALENDAR
VERSION:2.0
PRODID:-//Date iCal//NONSGML kigkonsult.se iCalcreator 2.20.4//
METHOD:PUBLISH
BEGIN:VTIMEZONE
TZID:Europe/Moscow
BEGIN:STANDARD
DTSTART:20141026T020000
TZOFFSETFROM:+0400
TZOFFSETTO:+0300
TZNAME:MSK
END:STANDARD
END:VTIMEZONE
BEGIN:VEVENT
UID:calendar.26534.field_announcement_dates.0@new-site-2023.mephi.ru
CREATED:20260410T135149Z
DESCRIPTION:Рубрики: \n\nСтрана и мир\n\nДля кого: \n\nШкольнику\nСтуденту
 \nСотруднику\nУченому\n\nПлощадка: \n\nВнешние мероприятия
DTSTART;TZID=Europe/Moscow:20260422T000000
DTEND;TZID=Europe/Moscow:20260422T000000
LAST-MODIFIED:20260410T135149Z
SUMMARY:Приходите на 'Атомные дискуссии'
URL;TYPE=URI:https://new-site-2023.mephi.ru/press/announcements/26534
END:VEVENT
END:VCALENDAR
